BEGIN:VCALENDAR
VERSION:2.0
PRODID:-//Paul-Lincke-Grundschule - ECPv6.15.20//NONSGML v1.0//EN
CALSCALE:GREGORIAN
METHOD:PUBLISH
X-ORIGINAL-URL:https://plg.berlin
X-WR-CALDESC:Veranstaltungen für Paul-Lincke-Grundschule
REFRESH-INTERVAL;VALUE=DURATION:PT1H
X-Robots-Tag:noindex
X-PUBLISHED-TTL:PT1H
BEGIN:VTIMEZONE
TZID:Europe/Paris
BEGIN:DAYLIGHT
TZOFFSETFROM:+0100
TZOFFSETTO:+0200
TZNAME:CEST
DTSTART:20240331T010000
END:DAYLIGHT
BEGIN:STANDARD
TZOFFSETFROM:+0200
TZOFFSETTO:+0100
TZNAME:CET
DTSTART:20241027T010000
END:STANDARD
BEGIN:DAYLIGHT
TZOFFSETFROM:+0100
TZOFFSETTO:+0200
TZNAME:CEST
DTSTART:20250330T010000
END:DAYLIGHT
BEGIN:STANDARD
TZOFFSETFROM:+0200
TZOFFSETTO:+0100
TZNAME:CET
DTSTART:20251026T010000
END:STANDARD
BEGIN:DAYLIGHT
TZOFFSETFROM:+0100
TZOFFSETTO:+0200
TZNAME:CEST
DTSTART:20260329T010000
END:DAYLIGHT
BEGIN:STANDARD
TZOFFSETFROM:+0200
TZOFFSETTO:+0100
TZNAME:CET
DTSTART:20261025T010000
END:STANDARD
END:VTIMEZONE
BEGIN:VEVENT
DTSTART;TZID=Europe/Paris:20250612T180000
DTEND;TZID=Europe/Paris:20250612T193000
DTSTAMP:20260419T180743
CREATED:20250301T184656Z
LAST-MODIFIED:20250301T190054Z
UID:3366-1749751200-1749756600@plg.berlin
SUMMARY:Info-Elternabend für Klasse 2
DESCRIPTION:Liebe Erziehungsberechtigte der zweiten Klassen\, \n\n\n\nDieser Elternabend ist wichtig für Sie. Es geht um die Veränderungen\, die in der dritten Klasse anstehen werden. \n\n\n\nThemen des Elternabends sind: \n\n\n\n\nWie geht es für mein Kind weiter in der Musikbetonung?\n\n\n\nWie läuft der Schwimmunterricht in Klasse drei ab?\n\n\n\nWomit starten die Schüler*ìnnen im Englischunterricht?\n\n\n\n\nDie Einladungen zum Informations-Elternabend erhalten rechtzeitig.
URL:https://plg.berlin/termine/elternabend-fuer-klasse-2/
END:VEVENT
END:VCALENDAR