BEGIN:VCALENDAR
VERSION:2.0
PRODID:-//Paul-Lincke-Grundschule - ECPv6.15.20//NONSGML v1.0//EN
CALSCALE:GREGORIAN
METHOD:PUBLISH
X-ORIGINAL-URL:https://plg.berlin
X-WR-CALDESC:Veranstaltungen für Paul-Lincke-Grundschule
REFRESH-INTERVAL;VALUE=DURATION:PT1H
X-Robots-Tag:noindex
X-PUBLISHED-TTL:PT1H
BEGIN:VTIMEZONE
TZID:Europe/Paris
BEGIN:DAYLIGHT
TZOFFSETFROM:+0100
TZOFFSETTO:+0200
TZNAME:CEST
DTSTART:20240331T010000
END:DAYLIGHT
BEGIN:STANDARD
TZOFFSETFROM:+0200
TZOFFSETTO:+0100
TZNAME:CET
DTSTART:20241027T010000
END:STANDARD
BEGIN:DAYLIGHT
TZOFFSETFROM:+0100
TZOFFSETTO:+0200
TZNAME:CEST
DTSTART:20250330T010000
END:DAYLIGHT
BEGIN:STANDARD
TZOFFSETFROM:+0200
TZOFFSETTO:+0100
TZNAME:CET
DTSTART:20251026T010000
END:STANDARD
BEGIN:DAYLIGHT
TZOFFSETFROM:+0100
TZOFFSETTO:+0200
TZNAME:CEST
DTSTART:20260329T010000
END:DAYLIGHT
BEGIN:STANDARD
TZOFFSETFROM:+0200
TZOFFSETTO:+0100
TZNAME:CET
DTSTART:20261025T010000
END:STANDARD
END:VTIMEZONE
BEGIN:VEVENT
DTSTART;TZID=Europe/Paris:20250514T180000
DTEND;TZID=Europe/Paris:20250514T190000
DTSTAMP:20260419T192728
CREATED:20250114T192254Z
LAST-MODIFIED:20250410T202516Z
UID:3294-1747245600-1747249200@plg.berlin
SUMMARY:Frühlingskonzert
DESCRIPTION:Kein Frühling ohne Konzert! Auch dieses Mal verspricht das musikalische Fest einen Abend voller wunderbarer Klänge und bezaubernder Darbietungen. \n\n\n\nUnsere talentierten Schülerinnen und Schüler haben hart gearbeitet\, um ein abwechslungsreiches Programm vorzubereiten\, das allerlei musikalische Schmankerl bereithält. Wir freuen uns auf frische  Instrumental- und Gesangsdarbietungen\, die die Vielfalt unserer musikalischen Talente präsentieren. \n\n\n\nDas Frühlingskonzert bietet außerdem eine großartige Gelegenheit\, die Gemeinschaft zu stärken und die Schulatmosphäre zu genießen. \n\n\n\nDer Eintritt zum Frühlingskonzert ist frei\, aber Spenden werden gerne angenommen\, um die Musikprogramme an unserer Schule zu unterstützen. \n\n\n\nWir freuen uns auf Ihre Anwesenheit und darauf\, gemeinsam mit Ihnen den Frühling und die Musik zu feiern. Bringen Sie Freunde und Familie mit\, um diesen besonderen Abend zu genießen. \n\n\n\nLassen Sie uns gemeinsam den Frühling mit Musik und Freude willkommen heißen! Wir sehen uns am 14. Mai. Einlass ab 17:45\, Beginn 18:00
URL:https://plg.berlin/termine/fruehlingskonzert-3/
LOCATION:Adventkirche\, Danziger Straße 201-203\, Berlin\, 10407\, Deutschland
CATEGORIES:Musik,Schule,Veranstaltungen
ATTACH;FMTTYPE=image/png:https://plg.berlin/wp-content/uploads/2025/01/2025-Fruehlingskonzert.png
END:VEVENT
END:VCALENDAR