BEGIN:VCALENDAR
VERSION:2.0
PRODID:-//Paul-Lincke-Grundschule - ECPv6.15.20//NONSGML v1.0//EN
CALSCALE:GREGORIAN
METHOD:PUBLISH
X-WR-CALNAME:Paul-Lincke-Grundschule
X-ORIGINAL-URL:https://plg.berlin
X-WR-CALDESC:Veranstaltungen für Paul-Lincke-Grundschule
REFRESH-INTERVAL;VALUE=DURATION:PT1H
X-Robots-Tag:noindex
X-PUBLISHED-TTL:PT1H
BEGIN:VTIMEZONE
TZID:Europe/Paris
BEGIN:DAYLIGHT
TZOFFSETFROM:+0100
TZOFFSETTO:+0200
TZNAME:CEST
DTSTART:20240331T010000
END:DAYLIGHT
BEGIN:STANDARD
TZOFFSETFROM:+0200
TZOFFSETTO:+0100
TZNAME:CET
DTSTART:20241027T010000
END:STANDARD
BEGIN:DAYLIGHT
TZOFFSETFROM:+0100
TZOFFSETTO:+0200
TZNAME:CEST
DTSTART:20250330T010000
END:DAYLIGHT
BEGIN:STANDARD
TZOFFSETFROM:+0200
TZOFFSETTO:+0100
TZNAME:CET
DTSTART:20251026T010000
END:STANDARD
BEGIN:DAYLIGHT
TZOFFSETFROM:+0100
TZOFFSETTO:+0200
TZNAME:CEST
DTSTART:20260329T010000
END:DAYLIGHT
BEGIN:STANDARD
TZOFFSETFROM:+0200
TZOFFSETTO:+0100
TZNAME:CET
DTSTART:20261025T010000
END:STANDARD
END:VTIMEZONE
BEGIN:VEVENT
DTSTART;TZID=Europe/Paris:20250506T190000
DTEND;TZID=Europe/Paris:20250506T190000
DTSTAMP:20260419T191754
CREATED:20250114T203427Z
LAST-MODIFIED:20250301T212657Z
UID:3335-1746558000-1746558000@plg.berlin
SUMMARY:Fördervereinstreffen
DESCRIPTION:
URL:https://plg.berlin/termine/foerdervereinstreffen-8/
CATEGORIES:Förderverein,Vereinstreffen
END:VEVENT
END:VCALENDAR