BEGIN:VCALENDAR
VERSION:2.0
PRODID:-//Paul-Lincke-Grundschule - ECPv6.15.20//NONSGML v1.0//EN
CALSCALE:GREGORIAN
METHOD:PUBLISH
X-ORIGINAL-URL:https://plg.berlin
X-WR-CALDESC:Veranstaltungen für Paul-Lincke-Grundschule
REFRESH-INTERVAL;VALUE=DURATION:PT1H
X-Robots-Tag:noindex
X-PUBLISHED-TTL:PT1H
BEGIN:VTIMEZONE
TZID:Europe/Paris
BEGIN:DAYLIGHT
TZOFFSETFROM:+0100
TZOFFSETTO:+0200
TZNAME:CEST
DTSTART:20240331T010000
END:DAYLIGHT
BEGIN:STANDARD
TZOFFSETFROM:+0200
TZOFFSETTO:+0100
TZNAME:CET
DTSTART:20241027T010000
END:STANDARD
BEGIN:DAYLIGHT
TZOFFSETFROM:+0100
TZOFFSETTO:+0200
TZNAME:CEST
DTSTART:20250330T010000
END:DAYLIGHT
BEGIN:STANDARD
TZOFFSETFROM:+0200
TZOFFSETTO:+0100
TZNAME:CET
DTSTART:20251026T010000
END:STANDARD
BEGIN:DAYLIGHT
TZOFFSETFROM:+0100
TZOFFSETTO:+0200
TZNAME:CEST
DTSTART:20260329T010000
END:DAYLIGHT
BEGIN:STANDARD
TZOFFSETFROM:+0200
TZOFFSETTO:+0100
TZNAME:CET
DTSTART:20261025T010000
END:STANDARD
END:VTIMEZONE
BEGIN:VEVENT
DTSTART;TZID=Europe/Paris:20250502T000000
DTEND;TZID=Europe/Paris:20250502T235959
DTSTAMP:20260419T192034
CREATED:20250301T204302Z
LAST-MODIFIED:20250301T212550Z
UID:3380-1746144000-1746230399@plg.berlin
SUMMARY:Unterrichtsfreier Tag
DESCRIPTION:Die Schule ist geschlossen.Es findet kein Unterricht statt.Es findet auch keine Betreuung statt.
URL:https://plg.berlin/termine/unterrichtsfreier-tag-2/
CATEGORIES:eFöB (Hort),Ferien,Schließtage
END:VEVENT
END:VCALENDAR