BEGIN:VCALENDAR
VERSION:2.0
PRODID:-//Paul-Lincke-Grundschule - ECPv6.15.20//NONSGML v1.0//EN
CALSCALE:GREGORIAN
METHOD:PUBLISH
X-ORIGINAL-URL:https://plg.berlin
X-WR-CALDESC:Veranstaltungen für Paul-Lincke-Grundschule
REFRESH-INTERVAL;VALUE=DURATION:PT1H
X-Robots-Tag:noindex
X-PUBLISHED-TTL:PT1H
BEGIN:VTIMEZONE
TZID:Europe/Paris
BEGIN:DAYLIGHT
TZOFFSETFROM:+0100
TZOFFSETTO:+0200
TZNAME:CEST
DTSTART:20240331T010000
END:DAYLIGHT
BEGIN:STANDARD
TZOFFSETFROM:+0200
TZOFFSETTO:+0100
TZNAME:CET
DTSTART:20241027T010000
END:STANDARD
BEGIN:DAYLIGHT
TZOFFSETFROM:+0100
TZOFFSETTO:+0200
TZNAME:CEST
DTSTART:20250330T010000
END:DAYLIGHT
BEGIN:STANDARD
TZOFFSETFROM:+0200
TZOFFSETTO:+0100
TZNAME:CET
DTSTART:20251026T010000
END:STANDARD
BEGIN:DAYLIGHT
TZOFFSETFROM:+0100
TZOFFSETTO:+0200
TZNAME:CEST
DTSTART:20260329T010000
END:DAYLIGHT
BEGIN:STANDARD
TZOFFSETFROM:+0200
TZOFFSETTO:+0100
TZNAME:CET
DTSTART:20261025T010000
END:STANDARD
END:VTIMEZONE
BEGIN:VEVENT
DTSTART;TZID=Europe/Paris:20250304T180000
DTEND;TZID=Europe/Paris:20250304T200000
DTSTAMP:20260419T221618
CREATED:20250301T185711Z
LAST-MODIFIED:20250301T212445Z
UID:3369-1741111200-1741118400@plg.berlin
SUMMARY:GEV-Sitzung
DESCRIPTION:Die Sitzung der Gesamtelternvertretung (GEV) findet im Konferenzraum der Paul-Lincke-Grundschule statt. \n\n\n\nWenn es Themen gibt\, die Sie als Eltern oder erziehungsberechtigte Person einbringen wollen\, informieren Sie bitte die Elternvertretung Ihrer Klasse oder schreiben Sie bitte eine Mail an:gev-vorsitz ( at ) plg.berlin
URL:https://plg.berlin/termine/gev-sitzung-2/
CATEGORIES:Elternvertretung
END:VEVENT
END:VCALENDAR