BEGIN:VCALENDAR
VERSION:2.0
PRODID:-//Paul-Lincke-Grundschule - ECPv6.15.20//NONSGML v1.0//EN
CALSCALE:GREGORIAN
METHOD:PUBLISH
X-ORIGINAL-URL:https://plg.berlin
X-WR-CALDESC:Veranstaltungen für Paul-Lincke-Grundschule
REFRESH-INTERVAL;VALUE=DURATION:PT1H
X-Robots-Tag:noindex
X-PUBLISHED-TTL:PT1H
BEGIN:VTIMEZONE
TZID:Europe/Paris
BEGIN:DAYLIGHT
TZOFFSETFROM:+0100
TZOFFSETTO:+0200
TZNAME:CEST
DTSTART:20240331T010000
END:DAYLIGHT
BEGIN:STANDARD
TZOFFSETFROM:+0200
TZOFFSETTO:+0100
TZNAME:CET
DTSTART:20241027T010000
END:STANDARD
BEGIN:DAYLIGHT
TZOFFSETFROM:+0100
TZOFFSETTO:+0200
TZNAME:CEST
DTSTART:20250330T010000
END:DAYLIGHT
BEGIN:STANDARD
TZOFFSETFROM:+0200
TZOFFSETTO:+0100
TZNAME:CET
DTSTART:20251026T010000
END:STANDARD
BEGIN:DAYLIGHT
TZOFFSETFROM:+0100
TZOFFSETTO:+0200
TZNAME:CEST
DTSTART:20260329T010000
END:DAYLIGHT
BEGIN:STANDARD
TZOFFSETFROM:+0200
TZOFFSETTO:+0100
TZNAME:CET
DTSTART:20261025T010000
END:STANDARD
END:VTIMEZONE
BEGIN:VEVENT
DTSTART;TZID=Europe/Paris:20250220T180000
DTEND;TZID=Europe/Paris:20250220T200000
DTSTAMP:20260419T234259
CREATED:20250114T192018Z
LAST-MODIFIED:20250301T212430Z
UID:3292-1740074400-1740081600@plg.berlin
SUMMARY:Mitgliederversammlung Förderverein 2025
DESCRIPTION:Liebe Interessierte des Fördervereins der Grundschule\, \n\n\n\nwir laden euch herzlich zur nächsten Vereinssitzung ein\, die am im Hauptgebäude der Schule stattfindet. Gemeinsam möchten wir wichtige Themen rund um die Unterstützung unserer Grundschule besprechen und neue Projekte planen. Eure Ideen und Anregungen sind wie immer sehr willkommen! Wir freuen uns auf zahlreiches Erscheinen und einen produktiven Austausch.
URL:https://plg.berlin/termine/mitgliederversammlung-foerderverein-2025/
LOCATION:Paul-Lincke-Grundschule\, Pieskower Weg 39\, Berlin\, 10409\, Deutschland
CATEGORIES:Förderverein
END:VEVENT
END:VCALENDAR